BEGIN:VCALENDAR
VERSION:2.0
PRODID:-//hacksw/handcal//NONSGML v1.0//EN
BEGIN:VEVENT
SUMMARY:Tri / reparation fleches du club
UID:0db44ae9-d941-45f5-be79-db55254e110f
DTSTART:20260426T070000Z
DTEND:20260426T100000Z
LOCATION:Stade de la Rente Logerot  21160 Marsannay
CATEGORIES:Stage
STATUS:
URL;VALUE=URI:https://archerspataras.sportsregions.fr/evenements/2026/04/26/tri-reparation-fleches-du-club-2442221
END:VEVENT
END:VCALENDAR
